BEGIN:VCALENDAR
VERSION:2.0
PRODID:icalendar-ruby
CALSCALE:GREGORIAN
METHOD:PUBLISH
BEGIN:VEVENT
DTSTAMP:20260420T133629Z
UID:78-760671@gwdfirst.com
DTSTART:20260509T140000Z
DTEND:20260509T160000Z
CLASS:PUBLIC
CREATED:20260418T204941
DESCRIPTION:Ladies\, join us Saturday\, May 9 at 10am for our Women's Garde
 n Party. This is a great time of Food\, Fellowship and the Word. Noel Shif
 let will be speaking. See Pastor Sarah for more information. 
LAST-MODIFIED:20260418T204941
LOCATION:Greenwood First Assembly of God Pavilion 
SUMMARY:Women's Garden Party 
URL;VALUE=URI:https://www.gwdfirst.com/events/womens-garden-party/2026-05-0
 9
ATTACH;FILENAME=CMG-Designer---April-18-2026.jpeg;FMTTYPE=image/jpeg:https:
 //dq5pwpg1q8ru0.cloudfront.net/2026/04/19/00/49/41/267fdaeb-16c9-45c4-afab
 -b56dc00c825e/CMG-Designer---April-18-2026.jpeg
END:VEVENT
END:VCALENDAR
