BEGIN:VCALENDAR
VERSION:2.0
PRODID:icalendar-ruby
CALSCALE:GREGORIAN
METHOD:PUBLISH
BEGIN:VEVENT
DTSTAMP:20260420T121151Z
UID:77-760670@gwdfirst.com
DTSTART:20260507T220000Z
DTEND:20260507T230000Z
CLASS:PUBLIC
CREATED:20260418T204616
DESCRIPTION:Join us at 6pm as we join other's througout our nation on this 
 National Day of Prayer. 
LAST-MODIFIED:20260418T204616
LOCATION:Greenwood First Assembly of God 
SUMMARY:National Day of Prayer Service 
URL;VALUE=URI:https://www.gwdfirst.com/events/national-day-of-prayer-servic
 e/2026-05-07
ATTACH;FILENAME=CMG-Designer---April-4-2026-2.jpeg;FMTTYPE=image/jpeg:https
 ://dq5pwpg1q8ru0.cloudfront.net/2026/04/19/00/46/16/5cdfc065-859b-4be6-97e
 c-44b216ab09e9/CMG-Designer---April-4-2026-2.jpeg
END:VEVENT
END:VCALENDAR
